BEGIN:VCALENDAR
VERSION:2.0
PRODID:-//eventon.com NONSGML v1.0//EN
BEGIN:VEVENT
UID:69e8b4a569cac
DTSTAMP:20260422T134437
DTSTART:20261106T180000Z
DTEND:20261106T213000Z
LOCATION:
SUMMARY:JWLES
DESCRIPTION: JWLES
END:VEVENT
END:VCALENDAR